BEGIN:VCALENDAR
VERSION:2.0
PRODID:-//Drive-By Therapy - ECPv6.15.20//NONSGML v1.0//EN
CALSCALE:GREGORIAN
METHOD:PUBLISH
X-WR-CALNAME:Drive-By Therapy
X-ORIGINAL-URL:https://drivebytherapy.org
X-WR-CALDESC:Events for Drive-By Therapy
REFRESH-INTERVAL;VALUE=DURATION:PT1H
X-Robots-Tag:noindex
X-PUBLISHED-TTL:PT1H
BEGIN:VTIMEZONE
TZID:UTC
BEGIN:STANDARD
TZOFFSETFROM:+0000
TZOFFSETTO:+0000
TZNAME:UTC
DTSTART:20170101T000000
END:STANDARD
END:VTIMEZONE
BEGIN:VEVENT
DTSTART;TZID=UTC:20190829T193000
DTEND;TZID=UTC:20190829T223000
DTSTAMP:20260423T155305
CREATED:20190814T193917Z
LAST-MODIFIED:20190814T193917Z
UID:1112-1567107000-1567117800@drivebytherapy.org
SUMMARY:Speed Dating With A Twist
DESCRIPTION:
URL:https://drivebytherapy.org/event/speed-dating-with-a-twist/
LOCATION:Krave Restaurant & Lounge\, 4519 N Pine Island Rd.\, Sunrise\, FL\, 33351\, United States
ATTACH;FMTTYPE=image/jpeg:https://drivebytherapy.org/wp-content/uploads/2019/08/August292019.jpg
END:VEVENT
BEGIN:VEVENT
DTSTART;TZID=UTC:20190820T180000
DTEND;TZID=UTC:20190820T180000
DTSTAMP:20260423T155305
CREATED:20190814T193649Z
LAST-MODIFIED:20190814T193649Z
UID:1108-1566324000-1566324000@drivebytherapy.org
SUMMARY:Let's Commemorate Our Shared Black History - We Are African
DESCRIPTION:
URL:https://drivebytherapy.org/event/lets-commemorate-our-shared-black-history-we-are-african/
LOCATION:Historic Virginia Key Beach Park\, 4020 Virginia Key Beach Drive\, Miami\, FL\, 33149\, United States
ATTACH;FMTTYPE=image/jpeg:https://drivebytherapy.org/wp-content/uploads/2019/08/august202019.jpg
END:VEVENT
BEGIN:VEVENT
DTSTART;TZID=UTC:20190622T080000
DTEND;TZID=UTC:20190622T170000
DTSTAMP:20260423T155305
CREATED:20190125T213342Z
LAST-MODIFIED:20190125T213342Z
UID:997-1561190400-1561222800@drivebytherapy.org
SUMMARY:Generation Cure (Mental Health Day)
DESCRIPTION:
URL:https://drivebytherapy.org/event/generation-cure-mental-health-day/
LOCATION:Miami\, Miami\, FL
END:VEVENT
BEGIN:VEVENT
DTSTART;TZID=UTC:20190504T074500
DTEND;TZID=UTC:20190504T143000
DTSTAMP:20260423T155305
CREATED:20190509T181837Z
LAST-MODIFIED:20190509T181837Z
UID:1066-1556955900-1556980200@drivebytherapy.org
SUMMARY:Mental Health Conference
DESCRIPTION:
URL:https://drivebytherapy.org/event/mental-health-conference/
LOCATION:New Mount Olive Baptist Church\, 400 NW 9th Avenue\, Fort Lauderdale\, FL\, 333111\, United States
ATTACH;FMTTYPE=image/jpeg:https://drivebytherapy.org/wp-content/uploads/2019/05/MentalHealthConference.jpg
END:VEVENT
BEGIN:VEVENT
DTSTART;TZID=UTC:20190502T190000
DTEND;TZID=UTC:20190502T220000
DTSTAMP:20260423T155305
CREATED:20190408T212835Z
LAST-MODIFIED:20190408T212835Z
UID:1048-1556823600-1556834400@drivebytherapy.org
SUMMARY:Drive-By Therapy
DESCRIPTION:
URL:https://drivebytherapy.org/event/drive-by-therapy-2/
LOCATION:Krave Restaurant & Lounge\, 4519 N Pine Island Rd.\, Sunrise\, FL\, 33351\, United States
ATTACH;FMTTYPE=image/jpeg:https://drivebytherapy.org/wp-content/uploads/2019/04/May2.jpg
END:VEVENT
BEGIN:VEVENT
DTSTART;TZID=UTC:20190430T173000
DTEND;TZID=UTC:20190430T203000
DTSTAMP:20260423T155305
CREATED:20190408T213139Z
LAST-MODIFIED:20200907T210949Z
UID:1051-1556645400-1556656200@drivebytherapy.org
SUMMARY:Health Talks: Lecture Series
DESCRIPTION:
URL:https://drivebytherapy.org/event/health-talks-lecture-series/
LOCATION:Keiser University\, 1500 N.W. 49th Street\, Fort Lauderdale\, FL\, 33309\, United States
END:VEVENT
BEGIN:VEVENT
DTSTART;TZID=UTC:20190428T080000
DTEND;TZID=UTC:20190428T170000
DTSTAMP:20260423T155305
CREATED:20190125T213234Z
LAST-MODIFIED:20190125T213234Z
UID:995-1556438400-1556470800@drivebytherapy.org
SUMMARY:Drive-By Therapy Talk Show
DESCRIPTION:
URL:https://drivebytherapy.org/event/drive-by-therapy-talk-show-2/
LOCATION:Houston\, Houston
END:VEVENT
BEGIN:VEVENT
DTSTART;TZID=UTC:20190427T103000
DTEND;TZID=UTC:20190427T160000
DTSTAMP:20260423T155305
CREATED:20190403T223534Z
LAST-MODIFIED:20190403T223534Z
UID:1033-1556361000-1556380800@drivebytherapy.org
SUMMARY:Drive By Therapy
DESCRIPTION:
URL:https://drivebytherapy.org/event/drive-by-therapy/
LOCATION:FETE + FUNCTION\, 1910 Country Place Parkway\, Pearland\, 77584\, United States
ATTACH;FMTTYPE=image/jpeg:https://drivebytherapy.org/wp-content/uploads/2019/04/April27.jpg
END:VEVENT
BEGIN:VEVENT
DTSTART;TZID=UTC:20190427T080000
DTEND;TZID=UTC:20190427T170000
DTSTAMP:20260423T155305
CREATED:20190125T213122Z
LAST-MODIFIED:20190125T213144Z
UID:992-1556352000-1556384400@drivebytherapy.org
SUMMARY:Drive-By Therapy Talk Show
DESCRIPTION:
URL:https://drivebytherapy.org/event/drive-by-therapy-talk-show/
LOCATION:Houston\, Houston
END:VEVENT
BEGIN:VEVENT
DTSTART;TZID=UTC:20190426T080000
DTEND;TZID=UTC:20190426T170000
DTSTAMP:20260423T155305
CREATED:20190125T213039Z
LAST-MODIFIED:20190403T224036Z
UID:989-1556265600-1556298000@drivebytherapy.org
SUMMARY:Speak Easy
DESCRIPTION:
URL:https://drivebytherapy.org/event/speakeasy/
LOCATION:Wheeler Avenue Baptist Church\, 3826 Wheeler Ave\, Houston\, TX\, 77004
ATTACH;FMTTYPE=image/jpeg:https://drivebytherapy.org/wp-content/uploads/2019/04/April24-28.jpg
END:VEVENT
BEGIN:VEVENT
DTSTART;TZID=UTC:20190418T190000
DTEND;TZID=UTC:20190418T220000
DTSTAMP:20260423T155305
CREATED:20190408T212657Z
LAST-MODIFIED:20190408T212657Z
UID:1044-1555614000-1555624800@drivebytherapy.org
SUMMARY:Date Night: Intentional Time with Bae
DESCRIPTION:
URL:https://drivebytherapy.org/event/date-night-intentional-time-with-bae/
LOCATION:Krave Restaurant & Lounge\, 4519 N Pine Island Rd.\, Sunrise\, FL\, 33351\, United States
ATTACH;FMTTYPE=image/jpeg:https://drivebytherapy.org/wp-content/uploads/2019/04/April18.jpg
END:VEVENT
BEGIN:VEVENT
DTSTART;TZID=UTC:20190413T121500
DTEND;TZID=UTC:20190413T133000
DTSTAMP:20260423T155305
CREATED:20190408T213438Z
LAST-MODIFIED:20190408T213451Z
UID:1055-1555157700-1555162200@drivebytherapy.org
SUMMARY:Mental Health Symposium 2019
DESCRIPTION:
URL:https://drivebytherapy.org/event/mental-health-symposium/
LOCATION:Northwest Branch Library\, 1580 NW 3rd Ave.\, Pompano\, FL\, 33060\, United States
ATTACH;FMTTYPE=image/jpeg:https://drivebytherapy.org/wp-content/uploads/2019/04/April13.jpg
END:VEVENT
BEGIN:VEVENT
DTSTART;TZID=UTC:20190316T080000
DTEND;TZID=UTC:20190316T170000
DTSTAMP:20260423T155305
CREATED:20190125T212857Z
LAST-MODIFIED:20190125T212857Z
UID:986-1552723200-1552755600@drivebytherapy.org
SUMMARY:SPEAKS Women's Empowerment Conference (with Suzette Speaks) Panel Discussion on "Authenticity"
DESCRIPTION:
URL:https://drivebytherapy.org/event/speaks-womens-empowerment-conference-with-suzette-speaks-panel-discussion-on-authenticity/
LOCATION:Hard Rock Cafe’s Hollywood\, FL\, 1 Seminole Way\, Hollywood\, FL\, 33314
END:VEVENT
BEGIN:VEVENT
DTSTART;TZID=UTC:20190307T190000
DTEND;TZID=UTC:20190307T220000
DTSTAMP:20260423T155305
CREATED:20190129T204803Z
LAST-MODIFIED:20190129T204803Z
UID:1008-1551985200-1551996000@drivebytherapy.org
SUMMARY:Drive-By Therapy Talk Show
DESCRIPTION:
URL:https://drivebytherapy.org/event/drive-by-therapy-talk-show-4/
LOCATION:Gigis Music Cafe\, 4385 NW 88th Ave\, Sunrise\, FL\, 33351
ATTACH;FMTTYPE=image/jpeg:https://drivebytherapy.org/wp-content/uploads/2019/01/mar7.jpg
END:VEVENT
BEGIN:VEVENT
DTSTART;TZID=UTC:20190223T190000
DTEND;TZID=UTC:20190223T220000
DTSTAMP:20260423T155305
CREATED:20190125T212254Z
LAST-MODIFIED:20190125T212458Z
UID:981-1550948400-1550959200@drivebytherapy.org
SUMMARY:Love in Black
DESCRIPTION:
URL:https://drivebytherapy.org/event/love-in-black/
LOCATION:Studio 5 Ten\, 4510 N University Dr.\, Lauderhill\, FL\, 33351
ATTACH;FMTTYPE=image/jpeg:https://drivebytherapy.org/wp-content/uploads/2019/01/Love-In-Black.jpg
END:VEVENT
BEGIN:VEVENT
DTSTART;TZID=UTC:20190223T090000
DTEND;TZID=UTC:20190223T140000
DTSTAMP:20260423T155305
CREATED:20190125T211206Z
LAST-MODIFIED:20190125T211745Z
UID:974-1550912400-1550930400@drivebytherapy.org
SUMMARY:"No More Broken Hearts" Domestic Violence Panel
DESCRIPTION:
URL:https://drivebytherapy.org/event/no-more-broken-hearts-domestic-violence-panel/
LOCATION:Georgia Jones-Ayers Middle School\, 1331 NW 46th St.\, Miami\, Fl\, 33142
END:VEVENT
BEGIN:VEVENT
DTSTART;TZID=UTC:20190219T170000
DTEND;TZID=UTC:20190219T200000
DTSTAMP:20260423T155305
CREATED:20190125T210926Z
LAST-MODIFIED:20190125T210926Z
UID:971-1550595600-1550606400@drivebytherapy.org
SUMMARY:Panel Discussion in Miami on "Post Traumatic Slave Syndrome." Author Joy DeGruy\, Ph.D.
DESCRIPTION:
URL:https://drivebytherapy.org/event/panel-discussion-in-miami-on-post-traumatic-slave-syndrome-author-joy-degruy-ph-d/
LOCATION:Virginia
END:VEVENT
BEGIN:VEVENT
DTSTART;TZID=UTC:20190207T190000
DTEND;TZID=UTC:20190207T220000
DTSTAMP:20260423T155305
CREATED:20190129T204518Z
LAST-MODIFIED:20190129T204643Z
UID:1003-1549566000-1549576800@drivebytherapy.org
SUMMARY:Drive-By Therapy Talk Show
DESCRIPTION:
URL:https://drivebytherapy.org/event/drive-by-therapy-talk-show-3/
LOCATION:Gigis Music Cafe\, 4385 NW 88th Ave\, Sunrise\, FL\, 33351
ATTACH;FMTTYPE=image/jpeg:https://drivebytherapy.org/wp-content/uploads/2019/01/feb7.jpg
END:VEVENT
BEGIN:VEVENT
DTSTART;TZID=UTC:20181123T100000
DTEND;TZID=UTC:20181123T120000
DTSTAMP:20260423T155305
CREATED:20181124T003159Z
LAST-MODIFIED:20200907T210748Z
UID:768-1542967200-1542974400@drivebytherapy.org
SUMMARY:Because the holidays are never easy after a loss
DESCRIPTION:
URL:https://drivebytherapy.org/event/because-the-holidays-are-never-easy-after-a-loss/
LOCATION:4699 N. State RD | Suite B1 | Tamarac\, FL 33319\, 4699 N. State RD | Suite B1 | Tamarac\, FL 33319\, FL\, 33319\, United States
ORGANIZER;CN="Drive-By Therapy":MAILTO:lrussellpsyd@gmail.com
END:VEVENT
BEGIN:VEVENT
DTSTART;TZID=UTC:20181111T060000
DTEND;TZID=UTC:20181111T210000
DTSTAMP:20260423T155305
CREATED:20181124T010821Z
LAST-MODIFIED:20200907T210701Z
UID:789-1541916000-1541970000@drivebytherapy.org
SUMMARY:Relationships are hard
DESCRIPTION:
URL:https://drivebytherapy.org/event/relationships-are-hard/
LOCATION:Virginia
ORGANIZER;CN="Drive-By Therapy":MAILTO:lrussellpsyd@gmail.com
END:VEVENT
BEGIN:VEVENT
DTSTART;TZID=UTC:20180917T100000
DTEND;TZID=UTC:20180917T140000
DTSTAMP:20260423T155305
CREATED:20181123T235544Z
LAST-MODIFIED:20181123T235544Z
UID:751-1537178400-1537192800@drivebytherapy.org
SUMMARY:Young About Rock Ministry Get Information
DESCRIPTION:
URL:https://drivebytherapy.org/event/young-about-rock-ministry-get-information/
LOCATION:Virginia
ATTACH;FMTTYPE=image/png:https://drivebytherapy.org/wp-content/uploads/2018/11/Akeems-Church.png
ORGANIZER;CN="Drive-By Therapy":MAILTO:lrussellpsyd@gmail.com
END:VEVENT
BEGIN:VEVENT
DTSTART;TZID=UTC:20180910T180000
DTEND;TZID=UTC:20180910T193000
DTSTAMP:20260423T155305
CREATED:20181124T013755Z
LAST-MODIFIED:20200907T210819Z
UID:799-1536602400-1536607800@drivebytherapy.org
SUMMARY:Beyond the Rainbow
DESCRIPTION:
URL:https://drivebytherapy.org/event/beyond-the-rainbow/
LOCATION:Virginia
ORGANIZER;CN="Drive-By Therapy":MAILTO:lrussellpsyd@gmail.com
END:VEVENT
BEGIN:VEVENT
DTSTART;TZID=UTC:20180905T190000
DTEND;TZID=UTC:20180905T203000
DTSTAMP:20260423T155305
CREATED:20181124T023342Z
LAST-MODIFIED:20200907T210858Z
UID:813-1536174000-1536179400@drivebytherapy.org
SUMMARY:Getting Unstuck From The Past
DESCRIPTION:
URL:https://drivebytherapy.org/event/getting-unstuck-from-the-past/
LOCATION:Virginia
ORGANIZER;CN="Drive-By Therapy":MAILTO:lrussellpsyd@gmail.com
END:VEVENT
BEGIN:VEVENT
DTSTART;TZID=UTC:20180831T170000
DTEND;TZID=UTC:20180831T200000
DTSTAMP:20260423T155305
CREATED:20181123T234835Z
LAST-MODIFIED:20181123T234835Z
UID:748-1535734800-1535745600@drivebytherapy.org
SUMMARY:Battle of The Sexes
DESCRIPTION:
URL:https://drivebytherapy.org/event/battle-of-the-sexes/
LOCATION:107 SW 6TH ST\, 107 SW 6TH ST\, Fort Lauderdale\, FL 33301\, SW\, 33301\, United States
ATTACH;FMTTYPE=image/jpeg:https://drivebytherapy.org/wp-content/uploads/2018/11/8.31.jpg
ORGANIZER;CN="Drive-By Therapy":MAILTO:lrussellpsyd@gmail.com
END:VEVENT
BEGIN:VEVENT
DTSTART;TZID=UTC:20180830T190000
DTEND;TZID=UTC:20180830T220000
DTSTAMP:20260423T155305
CREATED:20181124T000729Z
LAST-MODIFIED:20181124T000729Z
UID:757-1535655600-1535666400@drivebytherapy.org
SUMMARY:Date Night
DESCRIPTION:
URL:https://drivebytherapy.org/event/date-night/
LOCATION:Krave Restaurant & Lounge\, 4519 N. Pine Island Road Sunrise\, FL 33351\, 33351\, United States
ATTACH;FMTTYPE=image/jpeg:https://drivebytherapy.org/wp-content/uploads/2018/11/Date-Night.jpg
ORGANIZER;CN="Drive-By Therapy":MAILTO:lrussellpsyd@gmail.com
END:VEVENT
BEGIN:VEVENT
DTSTART;TZID=UTC:20180612T083000
DTEND;TZID=UTC:20180612T220000
DTSTAMP:20260423T155305
CREATED:20181123T233431Z
LAST-MODIFIED:20181123T233808Z
UID:745-1528792200-1528840800@drivebytherapy.org
SUMMARY:Fellas\, It's Time to Talk
DESCRIPTION:
URL:https://drivebytherapy.org/event/fellas-its-time-to-talk/
LOCATION:4510 Noth University Drive\, Lauderhill\, Florida 33351\, FL\, 33341\, United States
ATTACH;FMTTYPE=image/jpeg:https://drivebytherapy.org/wp-content/uploads/2018/11/2.12.18.jpg
ORGANIZER;CN="Drive-By Therapy":MAILTO:lrussellpsyd@gmail.com
END:VEVENT
BEGIN:VEVENT
DTSTART;TZID=UTC:20180609T080000
DTEND;TZID=UTC:20180609T170000
DTSTAMP:20260423T155305
CREATED:20181124T005404Z
LAST-MODIFIED:20181124T005404Z
UID:783-1528531200-1528563600@drivebytherapy.org
SUMMARY:Life After The Abuse For Women
DESCRIPTION:
URL:https://drivebytherapy.org/event/life-after-the-abuse-for-women-4/
LOCATION:2925 Aventura Blvd | Ste. 101 | Aventura\, Florida 33180\, 2925 Aventura Blvd | Ste. 101 | Aventura\, Florida 33180\, FL\, 33180\, United States
ATTACH;FMTTYPE=image/jpeg:https://drivebytherapy.org/wp-content/uploads/2018/11/Life-After-Abuse-.jpg
ORGANIZER;CN="Drive-By Therapy":MAILTO:lrussellpsyd@gmail.com
END:VEVENT
BEGIN:VEVENT
DTSTART;TZID=UTC:20180512T103000
DTEND;TZID=UTC:20180512T120000
DTSTAMP:20260423T155305
CREATED:20181124T005303Z
LAST-MODIFIED:20181124T005303Z
UID:781-1526121000-1526126400@drivebytherapy.org
SUMMARY:Life After The Abuse For Women
DESCRIPTION:
URL:https://drivebytherapy.org/event/life-after-the-abuse-for-women-3/
LOCATION:2925 Aventura Blvd | Ste. 101 | Aventura\, Florida 33180\, 2925 Aventura Blvd | Ste. 101 | Aventura\, Florida 33180\, FL\, 33180\, United States
ATTACH;FMTTYPE=image/jpeg:https://drivebytherapy.org/wp-content/uploads/2018/11/Life-After-Abuse-.jpg
ORGANIZER;CN="Drive-By Therapy":MAILTO:lrussellpsyd@gmail.com
END:VEVENT
BEGIN:VEVENT
DTSTART;TZID=UTC:20180407T103000
DTEND;TZID=UTC:20180407T120000
DTSTAMP:20260423T155305
CREATED:20181124T004803Z
LAST-MODIFIED:20181124T004803Z
UID:779-1523097000-1523102400@drivebytherapy.org
SUMMARY:Life After The Abuse For Women
DESCRIPTION:
URL:https://drivebytherapy.org/event/life-after-the-abuse-for-women-2/
LOCATION:2925 Aventura Blvd | Ste. 101 | Aventura\, Florida 33180\, 2925 Aventura Blvd | Ste. 101 | Aventura\, Florida 33180\, FL\, 33180\, United States
ATTACH;FMTTYPE=image/jpeg:https://drivebytherapy.org/wp-content/uploads/2018/11/Life-After-Abuse-.jpg
ORGANIZER;CN="Drive-By Therapy":MAILTO:lrussellpsyd@gmail.com
END:VEVENT
BEGIN:VEVENT
DTSTART;TZID=UTC:20180405T190000
DTEND;TZID=UTC:20180405T190000
DTSTAMP:20260423T155305
CREATED:20181124T000143Z
LAST-MODIFIED:20181124T000143Z
UID:753-1522954800-1522954800@drivebytherapy.org
SUMMARY:Can You Be Friends With Your EX
DESCRIPTION:
URL:https://drivebytherapy.org/event/can-you-be-friends-with-your-ex/
LOCATION:4385 NW 88th AVE\, Sunrise\, FL 33351\, 4385 NW 88th AVE\, Sunrise\, FL 33351\, FL\, 33351\, United States
ATTACH;FMTTYPE=image/jpeg:https://drivebytherapy.org/wp-content/uploads/2018/11/April-5th.jpg
ORGANIZER;CN="Drive-By Therapy":MAILTO:lrussellpsyd@gmail.com
END:VEVENT
END:VCALENDAR