BEGIN:VCALENDAR
VERSION:2.0
PRODID:-//Drive-By Therapy - ECPv6.15.20//NONSGML v1.0//EN
CALSCALE:GREGORIAN
METHOD:PUBLISH
X-ORIGINAL-URL:https://drivebytherapy.org
X-WR-CALDESC:Events for Drive-By Therapy
REFRESH-INTERVAL;VALUE=DURATION:PT1H
X-Robots-Tag:noindex
X-PUBLISHED-TTL:PT1H
BEGIN:VTIMEZONE
TZID:UTC
BEGIN:STANDARD
TZOFFSETFROM:+0000
TZOFFSETTO:+0000
TZNAME:UTC
DTSTART:20160101T000000
END:STANDARD
END:VTIMEZONE
BEGIN:VEVENT
DTSTART;TZID=UTC:20170108T120000
DTEND;TZID=UTC:20170108T170000
DTSTAMP:20260423T135814
CREATED:20181123T193411Z
LAST-MODIFIED:20181123T193632Z
UID:702-1483876800-1483894800@drivebytherapy.org
SUMMARY:"Most Memorable Birthday" with "About-to-Be" Ron Christopher Williams
DESCRIPTION:
URL:https://drivebytherapy.org/event/most-memorable-birthday-with-about-to-be-ron-christopher-williams/
LOCATION:WAVS 1170
ORGANIZER;CN="Drive-By Therapy":MAILTO:lrussellpsyd@gmail.com
END:VEVENT
BEGIN:VEVENT
DTSTART;TZID=UTC:20170101T000000
DTEND;TZID=UTC:20170101T000000
DTSTAMP:20260423T135814
CREATED:20181123T192503Z
LAST-MODIFIED:20181123T192503Z
UID:700-1483228800-1483228800@drivebytherapy.org
SUMMARY:Interview with Shamora
DESCRIPTION:
URL:https://drivebytherapy.org/event/interview-with-shamora/
LOCATION:WAVS 1170
ORGANIZER;CN="Drive-By Therapy":MAILTO:lrussellpsyd@gmail.com
END:VEVENT
END:VCALENDAR